BEGIN:VCALENDAR
VERSION:2.0
PRODID:-//My Community Diary//iCal Event//EN
CALSCALE:GREGORIAN
METHOD:PUBLISH
BEGIN:VEVENT
UID:db57a161-3683-457d-9d57-ebc4863375f2
DTSTAMP:20260422T015600Z
DTSTART;VALUE=DATE:20260725
DTEND;VALUE=DATE:20260726
SUMMARY:Christmas In July | Dinner Cruise | Newcastle Harbour
DESCRIPTION:Step aboard for a festive mid-year celebration like no other. Gather your friends and family\, don your favourite Christmas jumper\, and indulge in a delicious Buffet Dinner and cruise the sparkling waters of Newcastle Harbour. \n\nWith festive décor\, music\, and all the cheer of the holiday season (without the summer heat!)\, this is your perfect winter escape.\n\nEntry Cost\nAll tickets $59 
LOCATION:\, Wharf Rd\, Newcastle\, NSW 2300\, NSW\, 2300
END:VEVENT
END:VCALENDAR
