BEGIN:VCALENDAR
VERSION:2.0
PRODID:-//My Community Diary//iCal Event//EN
CALSCALE:GREGORIAN
METHOD:PUBLISH
BEGIN:VEVENT
UID:5ac580b9-0ea2-4134-88d0-d3158272a901
DTSTAMP:20260421T222635Z
DTSTART;VALUE=DATE:20270123
DTEND;VALUE=DATE:20270124
SUMMARY:Chocolate Making Level One
DESCRIPTION:Chocolate Making Workshop where the teachers were trained by the Chocolate Queen Herself!\n\nCalling all chocoholics\, sweet tooths\, and curious crafters! Join us in North Nowra for a hands-on chocolate adventure led by experts trained by none other than Australia's Chocolate Queen\, Kirsten Tibbles herself! \n\nLearn to melt\, temper\, and Mold like a pro and create silky ganache and glossy truffles. Learn insider secrets from the Queen's own playbook. Taste\, laugh\, and take home your handmade creations.\n\nLimited spots – book your sweet seat now!\n\nWhether you're a kitchen newbie or a dessert diva\, this workshop is your golden ticket to chocolate mastery.\n\nNo Experience? No Problem! This beginner-friendly class is designed to make you feel confident\, creative\, and completely supported. You'll learn the science behind chocolate's shine and snap and leave with a box of your own handmade treats to share (or not—they won't judge!).\n\nEntry Cost\nAll tickets $300  - Your seat is free if you book a group of 11. Please contact us so we can arrange the date that suits your group.
LOCATION:\, 10 Narrien Place\, North Nowra\, NSW 2541\, NSW\, 2541
RRULE:FREQ=DAILY;INTERVAL=1;UNTIL=20270125T000000Z
END:VEVENT
END:VCALENDAR
