BEGIN:VCALENDAR
VERSION:2.0
PRODID:-//My Community Diary//iCal Event//EN
CALSCALE:GREGORIAN
METHOD:PUBLISH
BEGIN:VEVENT
UID:292a89cd-f97e-42e3-bb6b-dd3011041497
DTSTAMP:20260422T002950Z
DTSTART;VALUE=DATE:20260705
DTEND;VALUE=DATE:20260706
SUMMARY:Central Coast's Annual Wedding Expo
DESCRIPTION:The Central Coast Annual Wedding Expo is a celebrated and reputable wedding expo in the charming Central Coast region. This event takes place at a premier location known for its scenic beauty and accessibility. Featuring over 100 of the finest wedding and bridal suppliers from the Central Coast area and beyond\, they pride themselves on creating an inviting\, contemporary\, and local atmosphere. Their Central Coast Bridal Expo is vibrant\, filled with creativity\, excitement\, and top-notch live entertainment\, making it an unmissable event.\n\nAttendees enjoy complimentary entry and parking\, along with the exclusive 'I'm getting married' Bridal Bag for the couples. The carefully selected vendors span a wide range of services\, including floristry\, bridal gowns\, photography\, invitations\, wedding transport\, bachelorette parties\, beauty\, fitness\, men's attire\, footwear\, videography\, venues for receptions\, honeymoon planning\, bridal gifts\, candy tables\, wedding cakes\, bridal accessories\, event planning\, officiants\, and styling services.
LOCATION:\, 26 Central Coast Hwy\, West Gosford\, NSW 2250\, NSW\, 2250
END:VEVENT
END:VCALENDAR
