BEGIN:VCALENDAR
VERSION:2.0
PRODID:-//My Community Diary//iCal Event//EN
CALSCALE:GREGORIAN
METHOD:PUBLISH
BEGIN:VEVENT
UID:6dc40b3c-7c1e-4c84-91bc-232a1773e294
DTSTAMP:20260422T002951Z
DTSTART;VALUE=DATE:20260502
DTEND;VALUE=DATE:20260503
SUMMARY:Central Coast Craft Club
DESCRIPTION:Calling all creators\, makers and doers.\n\nLooking for a laid back\, feel good way to spend an afternoon? Join a crafty afternoon of fun\, company\, good food and good times. Central Coast Craft Club has a monthly creative meet-up at FunHaus Factory\, Gosford\, on the first Sunday of the month.\n\nBring along whatever you're working on\, knitting\, sewing\, painting\, crochet\, beading\, sketching\, or anything crafty you're into\, and spend a few hours in good company making\, chatting\, and connecting with fellow creatives over great food\, good vibes\, and friendly faces.\n\nCreative inspiration\, tasty snacks\, bring your own projects\, friendly faces and fresh ideas. An inclusive group of all ages\, genders\, and walks of life.\n\nWhether you're a seasoned maker or just curious to try something new\, this is your space to create\, unwind\, and be part of a welcoming community of craft lovers.
LOCATION:\, 141 Mann Street\, Gosford\, NSW 2250\, NSW\, 2250
RRULE:FREQ=DAILY;INTERVAL=1;UNTIL=20260504T000000Z
END:VEVENT
END:VCALENDAR
