BEGIN:VCALENDAR
VERSION:2.0
PRODID:-//My Community Diary//iCal Event//EN
CALSCALE:GREGORIAN
METHOD:PUBLISH
BEGIN:VEVENT
UID:ad64699a-2e07-4f89-97c9-469c8389195c
DTSTAMP:20260421T224255Z
DTSTART;VALUE=DATE:20260515
DTEND;VALUE=DATE:20260516
SUMMARY:Celebrating the Music of Countdown
DESCRIPTION:Classic hits from Australia's legendary music TV show – 1974–1987.\nHosted by Paul Field from The Cockroaches\, with Bronwyn Mulcahy and Dave Wilkins & the Celebration Band\nClassic Countdown hits from Skyhooks\, Sherbet\, Divinyls\, JPY\, Blondie\, ABBA\, Mental As Anything\, Suzi Quatro\, AC/DC\, Pat Benatar\, Dragon\, Stevie Wright\, KC & the Sunshine Band\, Cheap Trick and many more.\nAnd as Molly used to say\, "Do yourselves a favour" and get your tickets for a great night of entertainment!\n\nEntry Cost\nAdult $42.85  - General Admission Ticket - Dinner & Show Ticket
LOCATION:\, 85 Monaro Street\, Queanbeyan\, NSW 2620\, NSW\, 2620
END:VEVENT
END:VCALENDAR
