BEGIN:VCALENDAR
VERSION:2.0
PRODID:-//My Community Diary//iCal Event//EN
CALSCALE:GREGORIAN
METHOD:PUBLISH
BEGIN:VEVENT
UID:3b21bdb5-edac-4ae1-9dcd-635d6e889b40
DTSTAMP:20260422T023808Z
DTSTART;VALUE=DATE:20260425
DTEND;VALUE=DATE:20260426
SUMMARY:Celebrate ANZAC Day at Shaws Bay Hotel
DESCRIPTION:Celebrate ANZAC Day at the iconic Shaws Bay Hotel with Ballina's biggest game of Two Up and an afternoon of live music in the Beer Garden.\n\nJoin in for the Two Up\, a  a long-standing ANZAC Day tradition that brings the community together for a lively and respectful day of remembrance and mateship.\n\nThe energy lifts with live music featuring internationally recognised act Yolanda Be Cool\, joined by Mister Bennetts and Natmandu. Set against the relaxed coastal backdrop of Shaws Bay\, guests can settle in for an afternoon of great tunes\, cold drinks and a vibrant atmosphere.\n\nWith free entry and plenty of space in the Beer Garden\, it's the perfect place to gather with friends\, enjoy the ANZAC Day spirit and be part of one of Ballina's biggest celebrations.
LOCATION:\, 3 Brighton St\, East Ballina\, NSW 2478\, NSW\, 2478
END:VEVENT
END:VCALENDAR
