BEGIN:VCALENDAR
VERSION:2.0
PRODID:-//My Community Diary//iCal Event//EN
CALSCALE:GREGORIAN
METHOD:PUBLISH
BEGIN:VEVENT
UID:05e008cb-6850-4827-a347-15c48359ac00
DTSTAMP:20260422T033804Z
DTSTART;VALUE=DATE:20260914
DTEND;VALUE=DATE:20260915
SUMMARY:Cats and Dogs All At Sea
DESCRIPTION:Cats and dogs have been cherished onboard ships for as long as people have made sea voyages. In a life from which children and families are usually missing\, and are often very much missed\, pets provide a focus for emotions and affection. Sydney photographer Sam Hood went onboard countless ships between 1900 and the 1950s. He took hundreds of photographs of crew members for souvenirs of their visit or to send home to families.\n\nThis selection of photographs shows how much pets meant to many seafarers. It is not known who most of the people are – detailed records have not survived. But their attachment to their little shipmates is very apparent.
LOCATION:\, Griffith Road Northpoint Tower\, Lavington\, NSW 2641\, NSW\, 2641
RRULE:FREQ=DAILY;INTERVAL=1;UNTIL=20260916T000000Z
END:VEVENT
END:VCALENDAR
