BEGIN:VCALENDAR
VERSION:2.0
PRODID:-//My Community Diary//iCal Event//EN
CALSCALE:GREGORIAN
METHOD:PUBLISH
BEGIN:VEVENT
UID:26430816-99a6-4776-a3a0-5ae0a224bbc8
DTSTAMP:20260422T005208Z
DTSTART;VALUE=DATE:20260731
DTEND;VALUE=DATE:20260801
SUMMARY:Casino Truck Show
DESCRIPTION:The North Coast Petroleum Casino Truck Show is fabulous fun for the whole family\, including live entertainment\, amusement rides for the children\, and food and beverage vendors. Browse through the exhibitors showcasing industry-related products and services on display.\n\nThe free show is held in the main streets of Casino's central business district\, kicking off with the legendary Highway Lights truck parade\, followed by a line-up of blinged-up trucks in the heart of Casino. \n\nLocal trucking companies will be joined by an influx of trucks from right around Australia\, all vying for more than 80 trophies for the best rig. Exhibitors will showcase a range of vehicles including working trucks\, new trucks\, customised trucks\, rigid trucks\, fleets\, and vintage and restored trucks.\n\nThere is plenty of kid-friendly activities such as amusement rides and face painting.
LOCATION:\, 86 Walker Street\, Casino\, NSW 2470\, NSW\, 2470
RRULE:FREQ=DAILY;INTERVAL=1;UNTIL=20260802T000000Z
END:VEVENT
END:VCALENDAR
