BEGIN:VCALENDAR
VERSION:2.0
PRODID:-//My Community Diary//iCal Event//EN
CALSCALE:GREGORIAN
METHOD:PUBLISH
BEGIN:VEVENT
UID:eb38157d-00a5-4da6-87ff-182f66c22a27
DTSTAMP:20260422T005126Z
DTSTART;VALUE=DATE:20261212
DTEND;VALUE=DATE:20261213
SUMMARY:Casino Lions Farmers Markets
DESCRIPTION:Casino Lions Farmers Market is on every Saturday at Crawford Square.\n\nThe markets feature live entertainment and more variety of fresh local produce every week. The casino is home to a variety of locally grown fruit\, vegetables and meat. From peaches\, avocados\, mangoes\, and coffee to local beef and eggs you are sure to find something you like. Support local and be rewarded with fresh produce!
LOCATION:\, Casino\, NSW 2470\, NSW\, 2470
RRULE:FREQ=DAILY;INTERVAL=1;UNTIL=20261214T000000Z
END:VEVENT
END:VCALENDAR
