BEGIN:VCALENDAR
VERSION:2.0
PRODID:-//My Community Diary//iCal Event//EN
CALSCALE:GREGORIAN
METHOD:PUBLISH
BEGIN:VEVENT
UID:34960ec7-7834-4ee7-8f28-167dacdb1ca8
DTSTAMP:20260422T035556Z
DTSTART;VALUE=DATE:20260815
DTEND;VALUE=DATE:20260816
SUMMARY:Casino Lions Farmers Markets
DESCRIPTION:Casino Lions Farmers Market is on every Saturday at Crawford Square.\n\nThe markets feature live entertainment and more variety of fresh local produce every week. The casino is home to a variety of locally grown fruit\, vegetables and meat. From peaches\, avocados\, mangoes\, and coffee to local beef and eggs you are sure to find something you like. Support local and be rewarded with fresh produce!
LOCATION:\, Casino\, NSW 2470\, NSW\, 2470
RRULE:FREQ=DAILY;INTERVAL=1;UNTIL=20260817T000000Z
END:VEVENT
END:VCALENDAR
