BEGIN:VCALENDAR
VERSION:2.0
PRODID:-//My Community Diary//iCal Event//EN
CALSCALE:GREGORIAN
METHOD:PUBLISH
BEGIN:VEVENT
UID:87417d7d-74d6-4507-af21-b98d378d20ac
DTSTAMP:20260422T002942Z
DTSTART;VALUE=DATE:20260913
DTEND;VALUE=DATE:20260914
SUMMARY:Casino Golf Club Markets
DESCRIPTION:Come along and find a treasure at the Casino Golf Club market day. Browse the crafts\, jewellery\, bags\, clothing\, plants\, food and lots more. Enjoy a scrumptious breakfast in the Club House to start your day right.
LOCATION:\, West Street\, Casino\, NSW 2470\, NSW\, 2470
RRULE:FREQ=DAILY;INTERVAL=1;UNTIL=20260915T000000Z
END:VEVENT
END:VCALENDAR
