BEGIN:VCALENDAR
VERSION:2.0
PRODID:-//My Community Diary//iCal Event//EN
CALSCALE:GREGORIAN
METHOD:PUBLISH
BEGIN:VEVENT
UID:a91ce675-7e84-49c8-998e-59fd5ced7060
DTSTAMP:20260421T211607Z
DTSTART;VALUE=DATE:20260814
DTEND;VALUE=DATE:20260815
SUMMARY:Casino Country Music Muster
DESCRIPTION:Join the fun in Casino for this epic five-day Country Music Muster. \n\nWith a huge lineup of celebrated artists\, this event is one not to be missed! Attendees can look forward to chart-topping artists and rising stars showcasing the best in country music. \n\nIn addition to the incredible live performances\, the Casino Country Music Muster will feature a variety of family-friendly activities\, local food stalls and camping options for those who want to immerse themselves in the full experience.\n\nPlease see the website for the event lineup and more details.\n\nEntry Cost\nAll tickets $10  - Campers: $130 per person for the entire muster\, plus online booking fee  \nDay passes: $40 per person\, plus online booking fee. Kids aged 14 years old and under free (must be accompanied by a responsible adult)\nDaily walk ups: $10 per person\, per day – at-gate sales only (Tues-Wed-Thurs)
LOCATION:\, Summerland Way\, Casino\, NSW 2470\, NSW\, 2470
RRULE:FREQ=DAILY;INTERVAL=1;UNTIL=20260816T000000Z
END:VEVENT
END:VCALENDAR
