BEGIN:VCALENDAR
VERSION:2.0
PRODID:-//My Community Diary//iCal Event//EN
CALSCALE:GREGORIAN
METHOD:PUBLISH
BEGIN:VEVENT
UID:bd10acce-041d-4ee7-8638-8fcd557f9d59
DTSTAMP:20260423T140603Z
DTSTART;VALUE=DATE:20260920
DTEND;VALUE=DATE:20260921
SUMMARY:Casey Donovan This Is Me
DESCRIPTION:Experience the power\, passion and personality of one of Australia's most beloved performers when Casey Donovan brings her This Is Me tour to Ballina RSL. Celebrated for her extraordinary voice and commanding stage presence\, Casey invites audiences on a deeply personal musical journey that showcases the moments\, music and stories that have shaped her remarkable career.\n\nThis show features a dynamic selection of Casey's most iconic performances\, spanning her unforgettable Australian Idol beginnings through to show-stopping numbers from some of Australia's most loved musical theatre productions. Audiences can also look forward to heartfelt originals and new material\, performed live as part of a production that is as uplifting as it is inspiring.\n\nSince becoming the youngest winner of Australian Idol\, Casey Donovan has evolved into a multifaceted entertainer whose career spans music\, theatre\, television\, writing and advocacy. With chart-topping releases\, platinum accolades and acclaimed roles on stage and screen\, she has captivated millions with her authenticity\, resilience and powerful storytelling. Proudly drawing on her heritage and lived experience\, Casey continues to use her platform to champion empowerment\, creativity and connection\, making this performance a compelling and unmissable live experience.
LOCATION:\, 1 Grant Street\, Ballina\, NSW 2478\, NSW\, 2478
END:VEVENT
END:VCALENDAR
