BEGIN:VCALENDAR
VERSION:2.0
PRODID:-//My Community Diary//iCal Event//EN
CALSCALE:GREGORIAN
METHOD:PUBLISH
BEGIN:VEVENT
UID:91261abb-32e4-427d-8767-53571e84f2e6
DTSTAMP:20260421T210321Z
DTSTART;VALUE=DATE:20261107
DTEND;VALUE=DATE:20261108
SUMMARY:By Popular Demand
DESCRIPTION:Based in Gumbaynggirr Country in Nambucca Heads\, Jack Hodges is interested in the way local culture and quiet assumptions of power can influence our daily lives. He does this through introducing his character Gary the Dolphin in a series of recorded vox-pops on the streets.\n\nGary is a central figure in Jack's work\, a laid-back human-porpoise hybrid\, embodying the existential paradox of freedom and in 2026 Gary comes to the streets of Maitland. Through conversations in the community\, Gary reveals how personal beliefs meet public conversation — what gets spoken\, what stays quiet\, and who sets the limits of what's acceptable.
LOCATION:\, 230 High Street\, Maitland\, NSW 2320\, NSW\, 2320
RRULE:FREQ=DAILY;INTERVAL=1;UNTIL=20261109T000000Z
END:VEVENT
END:VCALENDAR
