BEGIN:VCALENDAR
VERSION:2.0
PRODID:-//My Community Diary//iCal Event//EN
CALSCALE:GREGORIAN
METHOD:PUBLISH
BEGIN:VEVENT
UID:b26eff84-811f-42bf-aeee-1b99a1b08a22
DTSTAMP:20260422T003019Z
DTSTART;VALUE=DATE:20260429
DTEND;VALUE=DATE:20260430
SUMMARY:Buttons\, Bricks and Other Bits
DESCRIPTION:This exhibition showcases and highlights artefacts discovered and uncovered during archaeological excavations in the Port Macquarie CBD\, with a particular focus on the Clarence Street area. Each piece tells a story about the daily lives of local people. Unlike today\, there was no weekly garbage collection. Domestic rubbish was thrown on site into pits or used as compost.\n\nExplore the layers of time that once rested beneath your feet and the forgotten gems from the past.\n\nEntry Cost\nAll tickets $3  - Adults $7\, Concession $5\, Children $3\, Families $15
LOCATION:\, 22 Clarence Street\, Port Macquarie\, NSW 2444\, NSW\, 2444
RRULE:FREQ=DAILY;INTERVAL=1;UNTIL=20260501T000000Z
END:VEVENT
END:VCALENDAR
