BEGIN:VCALENDAR
VERSION:2.0
PRODID:-//My Community Diary//iCal Event//EN
CALSCALE:GREGORIAN
METHOD:PUBLISH
BEGIN:VEVENT
UID:f1c43a71-a3a9-4750-8431-e67879209392
DTSTAMP:20260422T021652Z
DTSTART;VALUE=DATE:20260703
DTEND;VALUE=DATE:20260704
SUMMARY:Bush Traditions - OZ Music Sessions
DESCRIPTION:An evening of Australian folk music - songs\, dance\, tunes\, poems and more.\n\nThey encourage participation\, so bring voices and instruments and join in on the first Friday of each month.  A booklet of local dance tunes has been compiled to use at the sessions or you can join in and sing along by ear. \n\nEnjoy a Folk Ring where they each choose an item in turn as a request or to lead.\n\nAlso\, each month has a theme to focus interest on where songs and poems are hunted out\, practised and performed\, reflecting a different aspect of their heritage.
LOCATION:\, 19 Market Street\, Goulburn\, NSW 2580\, NSW\, 2580
RRULE:FREQ=DAILY;INTERVAL=1;UNTIL=20260705T000000Z
END:VEVENT
END:VCALENDAR
