BEGIN:VCALENDAR
VERSION:2.0
PRODID:-//My Community Diary//iCal Event//EN
CALSCALE:GREGORIAN
METHOD:PUBLISH
BEGIN:VEVENT
UID:cd75f79d-0060-454c-b20a-de565357b76e
DTSTAMP:20260421T211533Z
DTSTART;VALUE=DATE:20261128
DTEND;VALUE=DATE:20261129
SUMMARY:Bungendore Quilters' Annual Quilt Exhibition
DESCRIPTION:Featuring a diverse range of quilts made by members of Bungendore Quilters will be on display as well as the ever popular Viewer's Choice Award\, Annual Challenge\, Guessing Competition and Raffle with prizes of quilts for first\, second and third. \n\nThe Sales Table has fabulous good quality\, handmade craft items\, ideal gifts for Christmas.\n\nCome to enjoy and be visually stimulated!\n\nEntry Cost\nAdult $2.5  - Children under 15 free.
LOCATION:\, 51 Molonglo Street\, Bungendore\, NSW 2621\, NSW\, 2621
RRULE:FREQ=DAILY;INTERVAL=1;UNTIL=20261130T000000Z
END:VEVENT
END:VCALENDAR
