BEGIN:VCALENDAR
VERSION:2.0
PRODID:-//My Community Diary//iCal Event//EN
CALSCALE:GREGORIAN
METHOD:PUBLISH
BEGIN:VEVENT
UID:20758e64-378a-42b8-ae7e-c8d677acda28
DTSTAMP:20260422T022840Z
DTSTART;VALUE=DATE:20270719
DTEND;VALUE=DATE:20270720
SUMMARY:Bungambrawatha: Stories of Albury
DESCRIPTION:This exhibition charts the history and spirit of the community through objects and photographs from the Albury City Museum & Social History permanent collection.\n\nFrom the Wiradjuri\, who lived on and cared for this land for tens of thousands of years\, to colonial settlers\, to the more recent arrivals from many backgrounds who now call Albury home\, we are a place of many peoples and many experiences.\n\nDiscover stories of geography and place\, agriculture and manufacturing\, migration and homecoming – stories of a vibrant community whose achievements have made contributions on local\, national and international stages.\n\nThis exhibition was curated by Kat Kitch (Wiradjuri) and Kate Eastick.
LOCATION:\, Kiewa St & Swift St 540\, Albury\, NSW 2640\, NSW\, 2640
RRULE:FREQ=DAILY;INTERVAL=1;UNTIL=20270721T000000Z
END:VEVENT
END:VCALENDAR
