BEGIN:VCALENDAR
VERSION:2.0
PRODID:-//My Community Diary//iCal Event//EN
CALSCALE:GREGORIAN
METHOD:PUBLISH
BEGIN:VEVENT
UID:1c9a0a6e-82ee-40eb-993d-ca65eab2ea48
DTSTAMP:20260421T211543Z
DTSTART;VALUE=DATE:20270417
DTEND;VALUE=DATE:20270418
SUMMARY:Bungambrawatha: Stories of Albury
DESCRIPTION:This exhibition charts the history and spirit of the community through objects and photographs from the Albury City Museum & Social History permanent collection.\n\nFrom the Wiradjuri\, who lived on and cared for this land for tens of thousands of years\, to colonial settlers\, to the more recent arrivals from many backgrounds who now call Albury home\, we are a place of many peoples and many experiences.\n\nDiscover stories of geography and place\, agriculture and manufacturing\, migration and homecoming – stories of a vibrant community whose achievements have made contributions on local\, national and international stages.\n\nThis exhibition was curated by Kat Kitch (Wiradjuri) and Kate Eastick.
LOCATION:\, Kiewa St & Swift St 540\, Albury\, NSW 2640\, NSW\, 2640
RRULE:FREQ=DAILY;INTERVAL=1;UNTIL=20270419T000000Z
END:VEVENT
END:VCALENDAR
