BEGIN:VCALENDAR
VERSION:2.0
PRODID:-//My Community Diary//iCal Event//EN
CALSCALE:GREGORIAN
METHOD:PUBLISH
BEGIN:VEVENT
UID:87041cda-2892-4421-8a8e-a51b54975539
DTSTAMP:20260422T002828Z
DTSTART;VALUE=DATE:20260616
DTEND;VALUE=DATE:20260617
SUMMARY:Brocade - Group exhibition of three sisters
DESCRIPTION:Brocade – Group Exhibition of Three Sisters is a group exhibition featuring artists Alice Pulvers\, Sophie Pulvers and Lucy Pulvers\, presented at the Rochfort Gallery.
LOCATION:\, 317 Pacific Hwy\, North Sydney\, NSW 2060\, NSW\, 2060
RRULE:FREQ=DAILY;INTERVAL=1;UNTIL=20260618T000000Z
END:VEVENT
END:VCALENDAR
