BEGIN:VCALENDAR
VERSION:2.0
PRODID:-//My Community Diary//iCal Event//EN
CALSCALE:GREGORIAN
METHOD:PUBLISH
BEGIN:VEVENT
UID:aab32828-f38b-48e4-98b3-2124582e02a6
DTSTAMP:20260423T140252Z
DTSTART;VALUE=DATE:20260613
DTEND;VALUE=DATE:20260614
SUMMARY:Brocade - Group exhibition of three sisters
DESCRIPTION:Brocade – Group Exhibition of Three Sisters is a group exhibition featuring artists Alice Pulvers\, Sophie Pulvers and Lucy Pulvers\, presented at the Rochfort Gallery.
LOCATION:\, 317 Pacific Hwy\, North Sydney\, NSW 2060\, NSW\, 2060
RRULE:FREQ=DAILY;INTERVAL=1;UNTIL=20260615T000000Z
END:VEVENT
END:VCALENDAR
