BEGIN:VCALENDAR
VERSION:2.0
PRODID:-//My Community Diary//iCal Event//EN
CALSCALE:GREGORIAN
METHOD:PUBLISH
BEGIN:VEVENT
UID:e1549886-14b0-4b19-bbac-383161e6a42c
DTSTAMP:20260422T035712Z
DTSTART;VALUE=DATE:20260605
DTEND;VALUE=DATE:20260606
SUMMARY:Brocade - Group exhibition of three sisters
DESCRIPTION:Brocade – Group Exhibition of Three Sisters is a group exhibition featuring artists Alice Pulvers\, Sophie Pulvers and Lucy Pulvers\, presented at the Rochfort Gallery.
LOCATION:\, 317 Pacific Hwy\, North Sydney\, NSW 2060\, NSW\, 2060
RRULE:FREQ=DAILY;INTERVAL=1;UNTIL=20260607T000000Z
END:VEVENT
END:VCALENDAR
