BEGIN:VCALENDAR
VERSION:2.0
PRODID:-//My Community Diary//iCal Event//EN
CALSCALE:GREGORIAN
METHOD:PUBLISH
BEGIN:VEVENT
UID:6e23850f-5da4-4d2b-a524-3916090deaa8
DTSTAMP:20260421T224121Z
DTSTART;VALUE=DATE:20260602
DTEND;VALUE=DATE:20260603
SUMMARY:Brocade - Group exhibition of three sisters
DESCRIPTION:Brocade – Group Exhibition of Three Sisters is a group exhibition featuring artists Alice Pulvers\, Sophie Pulvers and Lucy Pulvers\, presented at the Rochfort Gallery.
LOCATION:\, 317 Pacific Hwy\, North Sydney\, NSW 2060\, NSW\, 2060
RRULE:FREQ=DAILY;INTERVAL=1;UNTIL=20260604T000000Z
END:VEVENT
END:VCALENDAR
