BEGIN:VCALENDAR
VERSION:2.0
PRODID:-//My Community Diary//iCal Event//EN
CALSCALE:GREGORIAN
METHOD:PUBLISH
BEGIN:VEVENT
UID:486f6e59-5f99-445b-8949-298a371c782e
DTSTAMP:20260422T003028Z
DTSTART;VALUE=DATE:20260529
DTEND;VALUE=DATE:20260530
SUMMARY:Brocade - Group exhibition of three sisters
DESCRIPTION:Brocade – Group Exhibition of Three Sisters is a group exhibition featuring artists Alice Pulvers\, Sophie Pulvers and Lucy Pulvers\, presented at the Rochfort Gallery.
LOCATION:\, 317 Pacific Hwy\, North Sydney\, NSW 2060\, NSW\, 2060
RRULE:FREQ=DAILY;INTERVAL=1;UNTIL=20260531T000000Z
END:VEVENT
END:VCALENDAR
