BEGIN:VCALENDAR
VERSION:2.0
PRODID:-//My Community Diary//iCal Event//EN
CALSCALE:GREGORIAN
METHOD:PUBLISH
BEGIN:VEVENT
UID:5024c272-e137-4837-a8d9-3bd4163e3efd
DTSTAMP:20260422T020201Z
DTSTART;VALUE=DATE:20260612
DTEND;VALUE=DATE:20260613
SUMMARY:Brewery Tours with Behind the Barrel
DESCRIPTION:Visit Ballina and Byrons finest breweries and distilleries on a half day tour.  \n\nPick up and Drop off from Ballina\, Lennox Head or Byron Bay.  - Tasting paddle included at each location (with an optional tasting platter to enjoy while enjoying drinks - at own cost).\n\nYou will head to two local Breweries and a Distillery. Learn about the process of how the beers and spirits are made. At each Brewery and Distillery\, you will get to taste a large selection of their Beers and Spirits on offer. \n\nNot a beer drinker? No worries\, you can substitute for cider\, seltzer\, ginger beer or wine!\n\nBreweries and distilleries they visit include Stone and Wood - Seven Mile Brewery - Lord Byron Distillery - Cape Byron Distillery - Husk Distillery - Common people brewing - Earth Brewing co.\n\nBecause the Brewery tours are truly behind the scenes experiences sometimes the plans need to change to accommodate brewery operations. Silent season\, renovations\, new beer release... means that they may change the itinerary to provide you with the best experience! If you have your heart set on a certain venue\, please let them know in the comments section when making your booking and they’ll let you know if something comes up!\n\nEntry Cost\nAdult $149  - Must be 18+ years\nHalf day tour $149\nFull day tour available $195
LOCATION:\, 1/52 Gibbon St\, Lennox Head\, NSW 2478\, NSW\, 2478
RRULE:FREQ=DAILY;INTERVAL=1;UNTIL=20260614T000000Z
END:VEVENT
END:VCALENDAR
