BEGIN:VCALENDAR
VERSION:2.0
PRODID:-//My Community Diary//iCal Event//EN
CALSCALE:GREGORIAN
METHOD:PUBLISH
BEGIN:VEVENT
UID:4c82ba60-d7ef-4d10-bc06-9dbe35c30b8d
DTSTAMP:20260422T015759Z
DTSTART;VALUE=DATE:20260809
DTEND;VALUE=DATE:20260810
SUMMARY:Breathwork\, Meditation\, Sound Healing Journey and Spa
DESCRIPTION:A restorative journey back into your body. Through gentle breathwork\, grounding meditation\, and sound\, you'll release tension\, soften your system\, and return to stillness. Afterwards\, unwind in the warmth of the Bathe House with full spa and sauna access as your body settles\, resets\, and remembers what peace feels like.\n\nEntry Cost\nAll tickets $110 
LOCATION:\, 40 Carrington Street\, Lismore\, NSW 2480\, NSW\, 2480
RRULE:FREQ=DAILY;INTERVAL=1;UNTIL=20260811T000000Z
END:VEVENT
END:VCALENDAR
