BEGIN:VCALENDAR
VERSION:2.0
PRODID:-//My Community Diary//iCal Event//EN
CALSCALE:GREGORIAN
METHOD:PUBLISH
BEGIN:VEVENT
UID:565212ba-7ba1-42d7-8bee-f5bf4a9a0226
DTSTAMP:20260422T015642Z
DTSTART;VALUE=DATE:20260611
DTEND;VALUE=DATE:20260612
SUMMARY:Brain Power Trivia
DESCRIPTION:Trivia night just got a FunHaus makeover. Get ready to laugh\, blush\, and battle it out for bragging rights at their brand new monthly trivia night at FunHaus Factory.\n\nThink outrageous original games all created in house and completely exclusive to Brain Power\, with on screen visuals\, hilarious twists\, and questions that push the boundaries of your brain. This is the cheeky\, modern alternative to trivia as you know it.\n\nExpect killer vibes\, seriously silly games\, and prizes you'll actually want to talk about\, including the coveted winner's trophy and the wooden spoon for the last place legends. With full AV production\, inclusive screen displays\, and good old fashioned pen and paper play\, it's all set up for max fun and zero stress. Round up your mates\, flex that weird knowledge\, and make it a monthly must do.
LOCATION:\, 141 Mann Street\, Gosford\, NSW 2250\, NSW\, 2250
RRULE:FREQ=DAILY;INTERVAL=1;UNTIL=20260613T000000Z
END:VEVENT
END:VCALENDAR
