BEGIN:VCALENDAR
VERSION:2.0
PRODID:-//My Community Diary//iCal Event//EN
CALSCALE:GREGORIAN
METHOD:PUBLISH
BEGIN:VEVENT
UID:b9dc2e74-f6d7-4ff4-9f19-8a72483d8139
DTSTAMP:20260423T140456Z
DTSTART;VALUE=DATE:20260423
DTEND;VALUE=DATE:20260424
SUMMARY:Botanica x Wombat Crossing Vineyard Winemakers Dinner
DESCRIPTION:An unforgettable evening as we partner with Wombat Crossing Vineyard to present an intimate wine dinner celebrating the best of Hunter Valley food and wine.\n\nThe night begins with a relaxed welcome reception featuring handcrafted canapés\, followed by a three-course curated menu\, thoughtfully designed to showcase seasonal local produce and perfectly paired by Wombat Crossing wines.\n\nThroughout the evening\, the Wombat Crossing team will share insights into their winemaking philosophy\, vineyard stories\, and the craftmanship behind every pour\, offering a truly immersive experience for wine lovers and food enthusiasts.\n\nReserve your seat now.
LOCATION:\, 555 Hermitage Road\, Pokolbin\, NSW 2320\, NSW\, 2320
END:VEVENT
END:VCALENDAR
