BEGIN:VCALENDAR
VERSION:2.0
PRODID:-//My Community Diary//iCal Event//EN
CALSCALE:GREGORIAN
METHOD:PUBLISH
BEGIN:VEVENT
UID:10f3eed2-78e1-4ba8-b5fd-ab0366c6d0c6
DTSTAMP:20260422T002718Z
DTSTART;VALUE=DATE:20260620
DTEND;VALUE=DATE:20260621
SUMMARY:Bluey’s Big Play
DESCRIPTION:From New York's Madison Square Garden to London's Royal Festival Hall\, Bluey's Big Play has delighted fans across the globe - and now it returns home to Australia for an encore tour.\n\nWhen Dad feels like a little bit of afternoon time out\, Bluey and Bingo have other plans! Join them as they pull out all of the games and cleverness at their disposal to get Dad off that bean bag. \n\nBluey's Big Play is a theatrical adaptation of the Emmy® award-winning children's television series\, with an original story by Bluey creator Joe Brumm\, and new music by Bluey composer\, Joff Bush. \n\nJoin the Heelers in their first live theatre show made just for you. Featuring brilliantly created puppets\, this is Bluey as you've never seen it before\, brought to real life.
LOCATION:\, Bennelong Point\, Sydney\, NSW 2000\, NSW\, 2000
RRULE:FREQ=DAILY;INTERVAL=1;UNTIL=20260622T000000Z
END:VEVENT
END:VCALENDAR
