BEGIN:VCALENDAR
VERSION:2.0
PRODID:-//My Community Diary//iCal Event//EN
CALSCALE:GREGORIAN
METHOD:PUBLISH
BEGIN:VEVENT
UID:0c4cb2e7-7a45-451b-b9bb-451584baef62
DTSTAMP:20260421T225632Z
DTSTART;VALUE=DATE:20271010
DTEND;VALUE=DATE:20271011
SUMMARY:Blue Heelers Golf Classic
DESCRIPTION:The Blue Heelers Golf Classic is held in conjunction with their partner Kooindah Waters Golf Club & Resort. \n\nThe event is an Ambrose team event\, the day will consist of team golf with individual hole prizes\, sit down meal post golf\, a raffle and an auction.\n\nEntry Cost\nAdult $160  - Price includes :\nBreakfast Roll – Arrive early and collect your breakfast before teeing off.\n\nSit-Down Meal after golf – Relax and enjoy a delicious meal while networking with fellow participants.
LOCATION:\, Wyong\, NSW 2259\, NSW\, 2259
RRULE:FREQ=DAILY;INTERVAL=1;UNTIL=20271012T000000Z
END:VEVENT
END:VCALENDAR
