BEGIN:VCALENDAR
VERSION:2.0
PRODID:-//My Community Diary//iCal Event//EN
CALSCALE:GREGORIAN
METHOD:PUBLISH
BEGIN:VEVENT
UID:0576f2b8-f880-4dc5-82c3-8d15f9427b8f
DTSTAMP:20260422T021950Z
DTSTART;VALUE=DATE:20260920
DTEND;VALUE=DATE:20260921
SUMMARY:Blake Pavey: A Bit Scared - Wagga Wagga
DESCRIPTION:After racking up over a million followers online and making audiences across the globe laugh until they cry\, Blake Pavey is touring Australia with his brand new hour of stand-up - A Bit Scared.\n\nAfter finding out his terminal illness isn't all that terminal anymore\, he's got a lot more time to think of everything he's scared of and the list is long.\n\nGet your tickets.\n\nEntry Cost\nAll tickets $44.9 
LOCATION:\, 8 Cross St\, Wagga Wagga\, NSW 2650\, NSW\, 2650
END:VEVENT
END:VCALENDAR
