BEGIN:VCALENDAR
VERSION:2.0
PRODID:-//My Community Diary//iCal Event//EN
CALSCALE:GREGORIAN
METHOD:PUBLISH
BEGIN:VEVENT
UID:7f2af684-87f5-41a5-aabe-c04fb57a6105
DTSTAMP:20260422T015804Z
DTSTART;VALUE=DATE:20260507
DTEND;VALUE=DATE:20260508
SUMMARY:Blake Pavey: A Bit Scared - Newtown
DESCRIPTION:After racking up over a million followers online and making audiences across the globe laugh until they cry\, Blake Pavey is touring Australia with his brand new hour of stand-up - A Bit Scared.\n\nAfter finding out his terminal illness isn't all that terminal anymore\, he's got a lot more time to think of everything he's scared of and the list is long.\n\nGet your tickets.\n\nEntry Cost\nAll tickets $44.9 
LOCATION:\, 118-132 Enmore Rd\, Newtown\, NSW 2042\, NSW\, 2042
END:VEVENT
END:VCALENDAR
