BEGIN:VCALENDAR
VERSION:2.0
PRODID:-//My Community Diary//iCal Event//EN
CALSCALE:GREGORIAN
METHOD:PUBLISH
BEGIN:VEVENT
UID:f9bbab4f-9124-4233-a42f-c7f7f23542e0
DTSTAMP:20260422T071809Z
DTSTART;VALUE=DATE:20260918
DTEND;VALUE=DATE:20260919
SUMMARY:Blake Pavey: A Bit Scared - Central Coast
DESCRIPTION:After racking up over a million followers online and making audiences across the globe laugh until they cry\, Blake Pavey is touring Australia with his brand new hour of stand-up - A Bit Scared.\n\nAfter finding out his terminal illness isn't all that terminal anymore\, he's got a lot more time to think of everything he's scared of and the list is long.\n\nGet your tickets.\n\nEntry Cost\nAll tickets $44.9 
LOCATION:\, 21 Margaret Street 19\, Wyong\, NSW 2259\, NSW\, 2259
END:VEVENT
END:VCALENDAR
