BEGIN:VCALENDAR
VERSION:2.0
PRODID:-//My Community Diary//iCal Event//EN
CALSCALE:GREGORIAN
METHOD:PUBLISH
BEGIN:VEVENT
UID:62f9cf82-c6d8-44d1-9ffc-83020a95c6f9
DTSTAMP:20260421T224318Z
DTSTART;VALUE=DATE:20260920
DTEND;VALUE=DATE:20260921
SUMMARY:Blak Markets at La Perouse
DESCRIPTION:The Blak Markets are being run for the first time in proud partnership with Randwick City Council at the La Perouse Museum\n\nAlong with 20 stallholders selling authentic Indigenous art\, craft\, bushfood\,  plants and clothing\, there will be a whole Festival program of entertainment.\n\nBlak Markets ensures you are buying directly from Indigenous businesses with 100 percent profit going to them.\n\nView their website for the full details.
LOCATION:\, 1542 Anzac Parade\, La Perouse\, NSW 2036\, NSW\, 2036
RRULE:FREQ=DAILY;INTERVAL=1;UNTIL=20260922T000000Z
END:VEVENT
END:VCALENDAR
