BEGIN:VCALENDAR
VERSION:2.0
PRODID:-//My Community Diary//iCal Event//EN
CALSCALE:GREGORIAN
METHOD:PUBLISH
BEGIN:VEVENT
UID:698c90fb-3d4f-4ee6-932c-6c46f16b897b
DTSTAMP:20260422T005202Z
DTSTART;VALUE=DATE:20261018
DTEND;VALUE=DATE:20261019
SUMMARY:Blackville Arts and Market Day
DESCRIPTION:Blackville is a small farming community in the heart of the Liverpool Plains. It will take you about 40 minutes from Quirindi or 55 minutes from Willow Tree and take you through scenic rural settings. The event is at the Blackville Public School\, where you will find the artwork inside the hall and market stalls outside. Local as well as guest artists are exhibited\, and all artwork is for sale.\n\nThe market stalls offer homewares\, clothing\, gifts\, artisan-made wares\, accessories\, jewellery gourmet foods and delicious treats. You will find local produce as well as produce sourced from afar. \n\nThese markets have a real country feel and the musical entertainment invites to stay and have a chat to the locals. A beautiful day out for the whole family.\n\nEntry Cost\nAdult $5  - Children are free
LOCATION:\, 13 O'Neile Street\, Blackville\, NSW 2343\, NSW\, 2343
END:VEVENT
END:VCALENDAR
