BEGIN:VCALENDAR
VERSION:2.0
PRODID:-//My Community Diary//iCal Event//EN
CALSCALE:GREGORIAN
METHOD:PUBLISH
BEGIN:VEVENT
UID:809d8383-ffc9-4d54-adfb-c93710bb535a
DTSTAMP:20260421T222456Z
DTSTART;VALUE=DATE:20260517
DTEND;VALUE=DATE:20260518
SUMMARY:Blacksmithing Introduction Workshop
DESCRIPTION:Spend a day with us at this practical introduction to Blacksmithing\, and go home with your very own couple of hand-forged results to show for it!\n\nYou will experience shaping steel with hammer and fire\, as well as learn a bit about the forge\, anvil\, tools and techniques used in blacksmithing.\n\nPlease note: This is not a knife-making workshop but an introduction to blacksmithing and forging.\n\n Suitable For:\nAnyone over 16 years old with an interest in blacksmithing\nAnyone able to lift a one kilogram hammer over the head and hammer  'for a while' (they will help if you get tired).\n\nEntry Cost\nAdult $275  - Only suitable for Adults\, over 16 years of age due to tools and safety understanding required.\nThe cost for the one-day workshop is AUD300 or AUD275 if booking two or more.
LOCATION:\, 13 Mitchell Road unit 4 (Entry from Chard Road)\, Brookvale\, NSW 2100\, NSW\, 2100
RRULE:FREQ=DAILY;INTERVAL=1;UNTIL=20260519T000000Z
END:VEVENT
END:VCALENDAR
