BEGIN:VCALENDAR
VERSION:2.0
PRODID:-//My Community Diary//iCal Event//EN
CALSCALE:GREGORIAN
METHOD:PUBLISH
BEGIN:VEVENT
UID:9a6b804a-e8bb-44ed-bb63-de44a6439c4f
DTSTAMP:20260422T022718Z
DTSTART;VALUE=DATE:20260531
DTEND;VALUE=DATE:20260601
SUMMARY:Birdrock Memorial Surfing Contest
DESCRIPTION:The Birdrock Memorial Surfing Contest began in 1981 to honour the lives of past Hastings Valley surfers. The event attracts current and previous locals to celebrate those who are woven into the historical fabric of the surfing community.
LOCATION:\, Beach Street\, Bonny Hills\, NSW 2445\, NSW\, 2445
RRULE:FREQ=DAILY;INTERVAL=1;UNTIL=20260602T000000Z
END:VEVENT
END:VCALENDAR
