BEGIN:VCALENDAR
VERSION:2.0
PRODID:-//My Community Diary//iCal Event//EN
CALSCALE:GREGORIAN
METHOD:PUBLISH
BEGIN:VEVENT
UID:3db5b0c5-8369-4704-a2fd-70bbbd4e34e5
DTSTAMP:20260422T022840Z
DTSTART;VALUE=DATE:20260423
DTEND;VALUE=DATE:20260424
SUMMARY:Bette and Joan
DESCRIPTION:In Hollywood's Golden Age\, two queens reigned supreme — Bette Davis and Joan Crawford. Before Whatever Happened to Baby Jane? lit up cinemas\, their off-camera rivalry was already a blockbuster.\n\nAnton Burge's deliciously wicked two-hander pulls back the curtain on the set where egos clashed\, tempers flared\, and a legendary feud hit boiling point.\n\nWith Jeanette Cronin (Dark Voyager) as Bette Davis and Lucia Mastrantone (Master Class) as Joan Crawford\, take a front row seat to an iconic battle of barbs\, ambition and brilliance. Bette and Joan captures the vulnerability and venom of two extraordinary women fighting for relevance — and one last moment in the spotlight.
LOCATION:\, 78 McDougall Street\, Kirribilli\, NSW 2061\, NSW\, 2061
RRULE:FREQ=DAILY;INTERVAL=1;UNTIL=20260425T000000Z
END:VEVENT
END:VCALENDAR
