BEGIN:VCALENDAR
VERSION:2.0
PRODID:-//My Community Diary//iCal Event//EN
CALSCALE:GREGORIAN
METHOD:PUBLISH
BEGIN:VEVENT
UID:67c37435-e91c-4794-a188-2fff568a90be
DTSTAMP:20260421T225634Z
DTSTART;VALUE=DATE:20260606
DTEND;VALUE=DATE:20260607
SUMMARY:Beads and Bubbles Workshop
DESCRIPTION:Create\, connect and unwind at Beads and Bubbles Ladies Night\, the ultimate beading workshop! \n\nHeld on the first Saturday of each month\, this is your time to relax\, sip on bubbly refreshments\, and craft your own stunning jewellery to wear and treasure. \n\nCome enjoy a fun-filled session of connection\, laughter\, and beautiful designs. Treat yourself to some "me time" because you deserve it!\n\nEntry Cost\nAll tickets $35  - $35 for one necklace\nAdditional $10 for extra necklace
LOCATION:\, 94 Keen Street\, Lismore\, NSW 2480\, NSW\, 2480
RRULE:FREQ=DAILY;INTERVAL=1;UNTIL=20260608T000000Z
END:VEVENT
END:VCALENDAR
