BEGIN:VCALENDAR
VERSION:2.0
PRODID:-//My Community Diary//iCal Event//EN
CALSCALE:GREGORIAN
METHOD:PUBLISH
BEGIN:VEVENT
UID:400a1785-fb83-4e95-b8ad-4a9e55057240
DTSTAMP:20260422T002953Z
DTSTART;VALUE=DATE:20270305
DTEND;VALUE=DATE:20270306
SUMMARY:Bathurst Autofest
DESCRIPTION:The Mountain is set to Rock again when the Bathurst Autofest returns to the world-renowned Mount Panorama Racing Circuit\, Bathurst NSW in March. \n\nThe Bathurst Autofest was again a huge hit this season and with the 2026 event being sold out we now are extending this event out to three days and two nights this proves that the Bathurst Autofest is only going to get bigger. But remember\, they have said they have a cut off of just 550 driving event entrants so get yourself booked in and submit your entry form early.\n\nSo forget the hustle and bustle of the City and get yourself trackside to take in the sights and sounds as these weekend warriors unleash onto Australia's best venue for a weekend of horsepower\, action and carnage where only the strong survive.\n\nEntry Cost\nAll tickets $15  - Tickets available from https://www.autofest.com.au/events/
LOCATION:\, Pit Straight\, Mount Panorama\, NSW 2795\, NSW\, 2795
RRULE:FREQ=DAILY;INTERVAL=1;UNTIL=20270307T000000Z
END:VEVENT
END:VCALENDAR
