BEGIN:VCALENDAR
VERSION:2.0
PRODID:-//My Community Diary//iCal Event//EN
CALSCALE:GREGORIAN
METHOD:PUBLISH
BEGIN:VEVENT
UID:ff089a41-d312-41ec-82be-9d465c76d0b5
DTSTAMP:20260422T021153Z
DTSTART;VALUE=DATE:20260705
DTEND;VALUE=DATE:20260706
SUMMARY:Bathurst Arts Trail
DESCRIPTION:The Bathurst Arts Trail is a collective of artists throughout the Bathurst region who open their galleries and studios to visitors on the first weekend of each month. \n\nThe Arts Trail Open Weekends offer a fabulous opportunity to meet our the local artists\, to see their works and hear their stories.\n\nTheir painters\, potters\, photographers\, sculptors\, jewellers and printmakers look forward to welcoming you and showcasing their incredible works and studios.\n\nLook for their golden flags which indicate a Studio entrance.\n\nVisit the Bathurst Arts Trail website for an interactive map of gallery locations and more information about the artists and if they will be open each month.
LOCATION:\, Bathurst\, NSW 2795\, NSW\, 2795
RRULE:FREQ=DAILY;INTERVAL=1;UNTIL=20260707T000000Z
END:VEVENT
END:VCALENDAR
