BEGIN:VCALENDAR
VERSION:2.0
PRODID:-//My Community Diary//iCal Event//EN
CALSCALE:GREGORIAN
METHOD:PUBLISH
BEGIN:VEVENT
UID:ced2e6de-9db9-4e84-95b9-f2d0e39d04a7
DTSTAMP:20260422T005212Z
DTSTART;VALUE=DATE:20260510
DTEND;VALUE=DATE:20260511
SUMMARY:Baroque Scottish Music at Riversdale
DESCRIPTION:Explore historic Riversdale and view a rare Scottish Baroque music manuscript from the 1700's\, on display for the very first time.\n\nSpend a day at Riversdale\, a National Trust NSW property with origins as a coach inn and later became home to the Twynam family for almost 100 years.\n\nStanding within its original paddocks and outbuildings\, Riversdale is a fine example of a Colonial Georgian home. Explore splendid seasonal gardens and picnic grounds and head inside to view a renowned collection of fine Australian Colonial furniture and arts and craft.\n\nOn display for the very first time will be a rare 300-year-old manuscript of Scottish baroque music\, discovered tucked away inside a piano at Riversdale in the 1980s. This small practice book\, etched with their own handwriting\, gives an intimate insight into the lives of two young women\, Margrat Arthour and Helen Wight\, whose music and stories have travelled across centuries and continents.\n\nSpecial exhibition on display for a limited time as part of the Australian Heritage Festival celebrations.\n\nEntry Cost\nAll tickets $0  - Tickets:\nNational Trust members – FREE\nChild (under 5 years) – FREE\nAdult – from $13.47\nConcession – from $11.39\nFamily – from $36.35\n\nIncludes entry to the homestead and gardens\, talks\, tours and morning tea.
LOCATION:\, 2 Twynam Drive\, Goulburn\, NSW 2580\, NSW\, 2580
RRULE:FREQ=DAILY;INTERVAL=1;UNTIL=20260512T000000Z
END:VEVENT
END:VCALENDAR
