BEGIN:VCALENDAR
VERSION:2.0
PRODID:-//My Community Diary//iCal Event//EN
CALSCALE:GREGORIAN
METHOD:PUBLISH
BEGIN:VEVENT
UID:82abcce7-1850-4a5b-b97c-c54994ea287e
DTSTAMP:20260422T023849Z
DTSTART;VALUE=DATE:20260506
DTEND;VALUE=DATE:20260507
SUMMARY:Barham Balladeers Country Music Festival
DESCRIPTION:Join cluBarham for the 2026 Barham Balladeers Country Music Festival — four fun-filled days celebrating the very best of Country and Balladeers music. Enjoy an outstanding line-up of talented artists including Brian Letton\, Evan Platshinda\, Bec Hance\, Jed & Trudy Hintz\, Dianne Coombs and Don Costa.\n\nWith great music\, friendly company and a welcoming atmosphere\, the Barham Balladeers Country Music Festival is a must-attend event for country music lovers. Come along\, relax and soak up the sounds of classic and contemporary country in the heart of Barham.
LOCATION:\, 6 Niemur Street\, Barham\, NSW 2732\, NSW\, 2732
RRULE:FREQ=DAILY;INTERVAL=1;UNTIL=20260508T000000Z
END:VEVENT
END:VCALENDAR
