BEGIN:VCALENDAR
VERSION:2.0
PRODID:-//My Community Diary//iCal Event//EN
CALSCALE:GREGORIAN
METHOD:PUBLISH
BEGIN:VEVENT
UID:cdd6319d-421b-4a96-99fd-df416b9a18ea
DTSTAMP:20260422T015746Z
DTSTART;VALUE=DATE:20270228
DTEND;VALUE=DATE:20270301
SUMMARY:Barellan Masters Games
DESCRIPTION:The Barellan Masters Games is a multi-sport event welcoming participants aged 30 years and over to compete across a range of sports in Barellan NSW\, including 3km and 6km walk events\, cattle team sorting\, tennis\, lawn bowls\, triathlon\, cricket\, and netball. \n\nDesigned for both competitive and social players\, the Masters Games offer the chance to take part in organised sport\, connect with teammates\, and enjoy a weekend of friendly competition. \n\nWhether you're entering a team\, competing individually\, or coming along to support\, the Barellan Masters Games is a celebration of sport\, experience and staying active at any age.
LOCATION:\, Barellan\, NSW 2665\, NSW\, 2665
RRULE:FREQ=DAILY;INTERVAL=1;UNTIL=20270302T000000Z
END:VEVENT
END:VCALENDAR
