BEGIN:VCALENDAR
VERSION:2.0
PRODID:-//My Community Diary//iCal Event//EN
CALSCALE:GREGORIAN
METHOD:PUBLISH
BEGIN:VEVENT
UID:b515974c-b40c-476e-8604-3cb468154716
DTSTAMP:20260422T005115Z
DTSTART;VALUE=DATE:20260609
DTEND;VALUE=DATE:20260610
SUMMARY:Barefoot Beach Yoga with Simply Barefoot
DESCRIPTION:Barefoot Beach Yoga: Where Nature Takes the Lead\n\nSimply Barefoot Life offers a raw\, 100 per cent beachfront yoga experience where nature takes the lead.\n\nThe location is the pristine shoreline at Potato Point on the NSW South Coast. Share your space with kangaroos\, wallabies\, emus\, dolphins\, and soaring sea eagles.\n\nIt's more than a yoga class—it's an immersive experience where the salt air cleans your lungs\, and the sunlight warms your soul. Be guided by the tide and grounded by the earth.\n\nSunrise barefoot beach Yoga sessions happen every Tuesday and Saturday all year round\, with times altered slightly with the sunrise.\n\nPlease BYO your own yoga mat (or beach towel) and swimmers for a post-class dip!
LOCATION:\, Blackfellows Point Road\, Potato Point\, NSW 2545\, NSW\, 2545
RRULE:FREQ=DAILY;INTERVAL=1;UNTIL=20260611T000000Z
END:VEVENT
END:VCALENDAR
