BEGIN:VCALENDAR
VERSION:2.0
PRODID:-//My Community Diary//iCal Event//EN
CALSCALE:GREGORIAN
METHOD:PUBLISH
BEGIN:VEVENT
UID:05fab9f0-7705-41f0-8f05-784eb9b30451
DTSTAMP:20260422T002143Z
DTSTART;VALUE=DATE:20261010
DTEND;VALUE=DATE:20261011
SUMMARY:Balmain Village Markets
DESCRIPTION:Located in the heart of Balmain\, this market brings together talented artisans and passionate providores to showcase handmade goods and specialty items\, all crafted by the vibrant makers and small businesses of the community. They're open every second Saturday of the month.
LOCATION:\, 214 Darling Street\, Balmain\, NSW 2041\, NSW\, 2041
RRULE:FREQ=DAILY;INTERVAL=1;UNTIL=20261012T000000Z
END:VEVENT
END:VCALENDAR
