BEGIN:VCALENDAR
VERSION:2.0
PRODID:-//My Community Diary//iCal Event//EN
CALSCALE:GREGORIAN
METHOD:PUBLISH
BEGIN:VEVENT
UID:8a288281-56c6-4177-a038-0071c84a0651
DTSTAMP:20260422T002958Z
DTSTART;VALUE=DATE:20260912
DTEND;VALUE=DATE:20260913
SUMMARY:Balmain Village Markets
DESCRIPTION:Located in the heart of Balmain\, this market brings together talented artisans and passionate providores to showcase handmade goods and specialty items\, all crafted by the vibrant makers and small businesses of the community. They're open every second Saturday of the month.
LOCATION:\, 214 Darling Street\, Balmain\, NSW 2041\, NSW\, 2041
RRULE:FREQ=DAILY;INTERVAL=1;UNTIL=20260914T000000Z
END:VEVENT
END:VCALENDAR
