BEGIN:VCALENDAR
VERSION:2.0
PRODID:-//My Community Diary//iCal Event//EN
CALSCALE:GREGORIAN
METHOD:PUBLISH
BEGIN:VEVENT
UID:17107d71-6956-4b56-bdc7-38ee63125582
DTSTAMP:20260422T015827Z
DTSTART;VALUE=DATE:20260711
DTEND;VALUE=DATE:20260712
SUMMARY:Balmain Village Markets
DESCRIPTION:Located in the heart of Balmain\, this market brings together talented artisans and passionate providores to showcase handmade goods and specialty items\, all crafted by the vibrant makers and small businesses of the community. They're open every second Saturday of the month.
LOCATION:\, 214 Darling Street\, Balmain\, NSW 2041\, NSW\, 2041
RRULE:FREQ=DAILY;INTERVAL=1;UNTIL=20260713T000000Z
END:VEVENT
END:VCALENDAR
