BEGIN:VCALENDAR
VERSION:2.0
PRODID:-//My Community Diary//iCal Event//EN
CALSCALE:GREGORIAN
METHOD:PUBLISH
BEGIN:VEVENT
UID:6610d901-9736-47d7-a361-30ce5f1462fc
DTSTAMP:20260422T035830Z
DTSTART;VALUE=DATE:20260724
DTEND;VALUE=DATE:20260725
SUMMARY:Ballina Veterans Week of Golf
DESCRIPTION:This event is conducted over five days playing one of the best golf courses in the Northern Rivers.\n\nExperience the camaraderie\, fellowship and fun with similar aged and like-minded people. Meet people from all walks of life and make lifetime friends.\n\nAll players in this event must be 55 years or older.
LOCATION:\, Jameson Avenue\, East Ballina\, NSW 2478\, NSW\, 2478
RRULE:FREQ=DAILY;INTERVAL=1;UNTIL=20260726T000000Z
END:VEVENT
END:VCALENDAR
