BEGIN:VCALENDAR
VERSION:2.0
PRODID:-//My Community Diary//iCal Event//EN
CALSCALE:GREGORIAN
METHOD:PUBLISH
BEGIN:VEVENT
UID:f0c26862-61fb-44b3-b9a6-29c8d2c09e03
DTSTAMP:20260421T225703Z
DTSTART;VALUE=DATE:20260501
DTEND;VALUE=DATE:20260502
SUMMARY:Balding is Easier than Being Bald
DESCRIPTION:In spaces where nothing is fixed\, anything is possible\, and those possibilities can feel both expansive and overwhelming. Balding is Easier Than Being Bald speaks to this tension\, reflecting what it's like to live within uncertainty – making choices without knowing exactly where they will lead. In these states of limbo\, identities\, ideas\, and futures remain open\, making them more palatable than the certainty of arrival.\n\nBringing together multidisciplinary works from Steep and Flow\, two youth-led creative projects co-produced with Beyond Empathy across the Shoalhaven and Illawarra from 2023-2025\, Balding is Easier Than Being Bald offers insight into the collaborative energy of young people shaping and reshaping their worlds. Across film\, illustration\, photographs\, sculptures\, animation\, and sound\, the exhibition highlights the potential of uncertainty and the value of creative process and outcome. It celebrates the creativity\, resilience\, and curiosity of young people navigating a world that is never fixed and reminds us that we all move through the world in a state of perpetual limbo\, never fully knowing what comes next.
LOCATION:\, 12 Berry Street\, Nowra\, NSW 2541\, NSW\, 2541
RRULE:FREQ=DAILY;INTERVAL=1;UNTIL=20260503T000000Z
END:VEVENT
END:VCALENDAR
